BEGIN:VCALENDAR
VERSION:2.0
PRODID:-//Downtown Holland - ECPv6.15.20//NONSGML v1.0//EN
CALSCALE:GREGORIAN
METHOD:PUBLISH
X-WR-CALNAME:Downtown Holland
X-ORIGINAL-URL:https://downtownholland.com
X-WR-CALDESC:Events for Downtown Holland
REFRESH-INTERVAL;VALUE=DURATION:PT1H
X-Robots-Tag:noindex
X-PUBLISHED-TTL:PT1H
BEGIN:VTIMEZONE
TZID:America/Detroit
BEGIN:DAYLIGHT
TZOFFSETFROM:-0500
TZOFFSETTO:-0400
TZNAME:EDT
DTSTART:20240310T070000
END:DAYLIGHT
BEGIN:STANDARD
TZOFFSETFROM:-0400
TZOFFSETTO:-0500
TZNAME:EST
DTSTART:20241103T060000
END:STANDARD
BEGIN:DAYLIGHT
TZOFFSETFROM:-0500
TZOFFSETTO:-0400
TZNAME:EDT
DTSTART:20250309T070000
END:DAYLIGHT
BEGIN:STANDARD
TZOFFSETFROM:-0400
TZOFFSETTO:-0500
TZNAME:EST
DTSTART:20251102T060000
END:STANDARD
BEGIN:DAYLIGHT
TZOFFSETFROM:-0500
TZOFFSETTO:-0400
TZNAME:EDT
DTSTART:20260308T070000
END:DAYLIGHT
BEGIN:STANDARD
TZOFFSETFROM:-0400
TZOFFSETTO:-0500
TZNAME:EST
DTSTART:20261101T060000
END:STANDARD
END:VTIMEZONE
BEGIN:VEVENT
DTSTART;TZID=America/Detroit:20250210T160000
DTEND;TZID=America/Detroit:20250210T190000
DTSTAMP:20260423T212139
CREATED:20250128T143748Z
LAST-MODIFIED:20250128T144727Z
UID:10001501-1739203200-1739214000@downtownholland.com
SUMMARY:Free Second Monday: Extraordinary Black Inventors
DESCRIPTION:Celebrate Black History Month with the Holland Museum \n\n\n\nCelebrate Black History Month with the Holland Museum during this FREE\, family event highlighting extraordinary black inventors and their inventions that changedthe world! The Holland Museum is open the second Monday of every month from 4:00-7:00 p.m. with FREE admission for all visitors! FREE Second Mondays are sponsored by The Meijer Foundation.
URL:https://downtownholland.com/event/free-second-monday-extraordinary-black-inventors/
LOCATION:Holland Museum\, 31 W 10th St\, HOLLAND\, MI\, 49423\, United States
CATEGORIES:Family Friendly,Free,Indoor
ATTACH;FMTTYPE=image/png:https://downtownholland.com/wp-content/uploads/2025/01/Extraordinary-Black-Inventors_TOURISM-West-MI-Tourist_433x438.png
ORGANIZER;CN="Holland Museum":MAILTO:hollandmuseum@hollandmuseum.org
END:VEVENT
BEGIN:VEVENT
DTSTART;TZID=America/Detroit:20250207T190000
DTEND;TZID=America/Detroit:20250207T210000
DTSTAMP:20260423T212139
CREATED:20250114T183537Z
LAST-MODIFIED:20250114T183538Z
UID:10001495-1738954800-1738962000@downtownholland.com
SUMMARY:Museum on Tap
DESCRIPTION:Join the Holland Museum for a fun-filled evening of beer\, cider\, and wine tasting! \n\n\n\n2025 marks the 5th Annual Museum on Tap fundraiser at the Holland Museum. We will also have non-alcoholic beverages. Enjoy food\, raffles\, a silent auction\, and explore the Holland Museum. Proceeds support upcoming Museum programs and exhibits. \n\n\n\nTickets include six\, 4 oz. pours and food.Advance Tickets: $35/personAt the Door: $50/personDesignated Driver (includes water or soda): $10/person
URL:https://downtownholland.com/event/museum-on-tap/
LOCATION:Holland Museum\, 31 W 10th St\, HOLLAND\, MI\, 49423\, United States
CATEGORIES:Indoor
ATTACH;FMTTYPE=image/png:https://downtownholland.com/wp-content/uploads/2025/01/Museum-on-Tap.png
ORGANIZER;CN="Holland Museum":MAILTO:hollandmuseum@hollandmuseum.org
END:VEVENT
BEGIN:VEVENT
DTSTART;TZID=America/Detroit:20250130T190000
DTEND;TZID=America/Detroit:20250130T203000
DTSTAMP:20260423T212139
CREATED:20250114T184558Z
LAST-MODIFIED:20250114T184559Z
UID:10001497-1738263600-1738269000@downtownholland.com
SUMMARY:A Night at the Museum: Behind-the-Scenes Tours of the Museum Collection
DESCRIPTION:Discover fascinating artifacts and gain insight into the care of the museum’s treasures during this special\, behind-the-scenes tour of the Holland Museum’s collection. \n\n\n\nThe evening will begin at 7 pm when guests can visit our bar for a drink or grab a snack while mingling with Holland Museum staff\, including Registrar Rick Jenkins\, and checking out the museum’s exhibits. Tours will begin at 7:30 pm and will include a trip to the museum’s Archives & Collection Storage\, spaces rarely seen by the general public. Please be sure to wear comfortable shoes and dress for the weather\, as we will be moving between the Museum and Armory buildings. This is a 21+ event.  \n\n\n\nHolland Museum Members: $18.00 Not Yet Members of the Holland Museum $20.00
URL:https://downtownholland.com/event/a-night-at-the-museum-behind-the-scenes-tours-of-the-museum-collection/
LOCATION:Holland Museum\, 31 W 10th St\, HOLLAND\, MI\, 49423\, United States
CATEGORIES:Family Friendly,In-Store Promotions,Indoor,Outdoor
ATTACH;FMTTYPE=image/png:https://downtownholland.com/wp-content/uploads/2025/01/night-at-the-Museum-TOURISM_West-MI_433x438.png
ORGANIZER;CN="Holland Museum":MAILTO:hollandmuseum@hollandmuseum.org
END:VEVENT
BEGIN:VEVENT
DTSTART;TZID=America/Detroit:20250120T173000
DTEND;TZID=America/Detroit:20250120T183000
DTSTAMP:20260423T212139
CREATED:20250114T184140Z
LAST-MODIFIED:20250114T184140Z
UID:10001496-1737394200-1737397800@downtownholland.com
SUMMARY:Racial Healing Circle
DESCRIPTION:On the eve of the National Day of Racial Healing\, the Holland Museum and Mediation Services welcomes members of the community for a restorative healing circle\, led by trained facilitators. \n\n\n\nDue to the confidential nature of this program\, participants must register in advance and check in upon arrival. Attendance is limited to 25. Doors will officially lock at 5:35 pm\, and nobody will be admitted after that point.
URL:https://downtownholland.com/event/racial-healing-circle/
LOCATION:Holland Museum\, 31 W 10th St\, HOLLAND\, MI\, 49423\, United States
CATEGORIES:Free,Indoor
ATTACH;FMTTYPE=image/png:https://downtownholland.com/wp-content/uploads/2025/01/Racial-Healing-Circle_Tourism-Discover-Holland_960x925.png
ORGANIZER;CN="Holland Museum":MAILTO:hollandmuseum@hollandmuseum.org
END:VEVENT
BEGIN:VEVENT
DTSTART;TZID=America/Detroit:20250120T100000
DTEND;TZID=America/Detroit:20250120T140000
DTSTAMP:20260423T212139
CREATED:20250114T185439Z
LAST-MODIFIED:20250114T185439Z
UID:10001499-1737367200-1737381600@downtownholland.com
SUMMARY:MLK Day at the Holland Museum
DESCRIPTION:Celebrate the life and legacy of Dr. Martin Luther King Jr. with the Holland Museum. \n\n\n\nCelebrate the life and legacy of Dr. Martin Luther King Jr. with engaging activities\, crafts\, and read alouds during this FREE\, annual family-friendly event happening at the Holland Museum. We hope you will join us for MLK-inspired story times at 11am\, 12pm\, or 1 pm with readers from Corewell Health before participating in this impactful event with your family.
URL:https://downtownholland.com/event/mlk-day-at-the-holland-museum/
LOCATION:Holland Museum\, 31 W 10th St\, HOLLAND\, MI\, 49423\, United States
CATEGORIES:Free,Indoor
ATTACH;FMTTYPE=image/png:https://downtownholland.com/wp-content/uploads/2025/01/MLK-Day-2025-TOURISM-WMI-Tourist_433x438.png
ORGANIZER;CN="Holland Museum":MAILTO:hollandmuseum@hollandmuseum.org
END:VEVENT
END:VCALENDAR